BEGIN:VCALENDAR
VERSION:2.0
PRODID:-//hacksw/handcal//NONSGML v1.0//EN
BEGIN:VEVENT
SUMMARY:MATCH U11
UID:daca0828-92b4-4c00-8d2b-92fdf1c6fcfe
DTSTART:20260502T120000Z
DTEND:20260502T220000Z
LOCATION:Localisation GYMNASE DE SAINT FRANCOIS 97118 SAINT FRANCOIS
CATEGORIES:Sportif
STATUS:
URL;VALUE=URI:https://www.jiscbasket.com/evenements/2026/05/02/match-u11-2421369
END:VEVENT
END:VCALENDAR
